BEGIN:VCALENDAR
VERSION:2.0
PRODID:-//Cabo Fish Taco - ECPv6.15.13.1//NONSGML v1.0//EN
CALSCALE:GREGORIAN
METHOD:PUBLISH
X-ORIGINAL-URL:https://www.cabofishtaco.com
X-WR-CALDESC:Events for Cabo Fish Taco
REFRESH-INTERVAL;VALUE=DURATION:PT1H
X-Robots-Tag:noindex
X-PUBLISHED-TTL:PT1H
BEGIN:VTIMEZONE
TZID:America/New_York
BEGIN:DAYLIGHT
TZOFFSETFROM:-0500
TZOFFSETTO:-0400
TZNAME:EDT
DTSTART:20220313T070000
END:DAYLIGHT
BEGIN:STANDARD
TZOFFSETFROM:-0400
TZOFFSETTO:-0500
TZNAME:EST
DTSTART:20221106T060000
END:STANDARD
BEGIN:DAYLIGHT
TZOFFSETFROM:-0500
TZOFFSETTO:-0400
TZNAME:EDT
DTSTART:20230312T070000
END:DAYLIGHT
BEGIN:STANDARD
TZOFFSETFROM:-0400
TZOFFSETTO:-0500
TZNAME:EST
DTSTART:20231105T060000
END:STANDARD
BEGIN:DAYLIGHT
TZOFFSETFROM:-0500
TZOFFSETTO:-0400
TZNAME:EDT
DTSTART:20240310T070000
END:DAYLIGHT
BEGIN:STANDARD
TZOFFSETFROM:-0400
TZOFFSETTO:-0500
TZNAME:EST
DTSTART:20241103T060000
END:STANDARD
END:VTIMEZONE
BEGIN:VEVENT
DTSTART;TZID=America/New_York:20230318T100000
DTEND;TZID=America/New_York:20230318T180000
DTSTAMP:20260419T135639
CREATED:20230306T165629Z
LAST-MODIFIED:20230403T185607Z
UID:10000202-1679133600-1679162400@www.cabofishtaco.com
SUMMARY:Vintage Vault Boutique Spring Fling
DESCRIPTION:
URL:https://www.cabofishtaco.com/event/vintage-vault-boutique-spring-fling/
LOCATION:Vintage Vault Boutique\, 2743 W Main st\, Salem\, VA\, 24153\, United States
CATEGORIES:food truck
ATTACH;FMTTYPE=image/webp:https://www.cabofishtaco.com/wp-content/uploads/2023/03/logo_trans-001_1200x1200.webp
END:VEVENT
END:VCALENDAR