BEGIN:VCALENDAR
VERSION:2.0
PRODID:-//Cabo Fish Taco - ECPv6.15.13.1//NONSGML v1.0//EN
CALSCALE:GREGORIAN
METHOD:PUBLISH
X-ORIGINAL-URL:https://www.cabofishtaco.com
X-WR-CALDESC:Events for Cabo Fish Taco
REFRESH-INTERVAL;VALUE=DURATION:PT1H
X-Robots-Tag:noindex
X-PUBLISHED-TTL:PT1H
BEGIN:VTIMEZONE
TZID:America/New_York
BEGIN:DAYLIGHT
TZOFFSETFROM:-0500
TZOFFSETTO:-0400
TZNAME:EDT
DTSTART:20220313T070000
END:DAYLIGHT
BEGIN:STANDARD
TZOFFSETFROM:-0400
TZOFFSETTO:-0500
TZNAME:EST
DTSTART:20221106T060000
END:STANDARD
BEGIN:DAYLIGHT
TZOFFSETFROM:-0500
TZOFFSETTO:-0400
TZNAME:EDT
DTSTART:20230312T070000
END:DAYLIGHT
BEGIN:STANDARD
TZOFFSETFROM:-0400
TZOFFSETTO:-0500
TZNAME:EST
DTSTART:20231105T060000
END:STANDARD
BEGIN:DAYLIGHT
TZOFFSETFROM:-0500
TZOFFSETTO:-0400
TZNAME:EDT
DTSTART:20240310T070000
END:DAYLIGHT
BEGIN:STANDARD
TZOFFSETFROM:-0400
TZOFFSETTO:-0500
TZNAME:EST
DTSTART:20241103T060000
END:STANDARD
END:VTIMEZONE
BEGIN:VEVENT
DTSTART;TZID=America/New_York:20230325T120000
DTEND;TZID=America/New_York:20230325T140000
DTSTAMP:20260419T135648
CREATED:20230306T170638Z
LAST-MODIFIED:20230403T185607Z
UID:10000208-1679745600-1679752800@www.cabofishtaco.com
SUMMARY:Alpha Sigma Alpha Parent Luncheon - Sinkland Farms
DESCRIPTION:
URL:https://www.cabofishtaco.com/event/alpha-sigma-alpha-parent-luncheon-sinkland-farms/
LOCATION:Sinkland Farms\, 3060 Riner Rd\, Christiansburg\, VA\, 24073\, United States
CATEGORIES:food truck
END:VEVENT
BEGIN:VEVENT
DTSTART;TZID=America/New_York:20230325T160000
DTEND;TZID=America/New_York:20230325T200000
DTSTAMP:20260419T135648
CREATED:20230306T170338Z
LAST-MODIFIED:20230403T185607Z
UID:10000207-1679760000-1679774400@www.cabofishtaco.com
SUMMARY:Iron Tree
DESCRIPTION:About\n\n\n\nIf you love enjoying great craft beer in a relaxing atmosphere\, then Iron Tree Brewing Company is the place for you. Our newly renovated tasting room is located in downtown Christiansburg\, VA\, right in the heart of Virginia’s beautiful New River Valley. We pride ourselves on creating delicious beer that you can enjoy in the company of good friends. \n\n\n\nBeers on Tap
URL:https://www.cabofishtaco.com/event/iron-tree-4/
LOCATION:Iron Tree Brewing Company\, 5 Roanoke St\, Christiansburg\, VA\, 24073\, United States
CATEGORIES:food truck
ATTACH;FMTTYPE=image/jpeg:https://www.cabofishtaco.com/wp-content/uploads/2023/01/A5L5Ss3TVbQ5noQ480x360.jpg
END:VEVENT
END:VCALENDAR