BEGIN:VCALENDAR
VERSION:2.0
PRODID:-//Cabo Fish Taco - ECPv6.15.13.1//NONSGML v1.0//EN
CALSCALE:GREGORIAN
METHOD:PUBLISH
X-WR-CALNAME:Cabo Fish Taco
X-ORIGINAL-URL:https://www.cabofishtaco.com
X-WR-CALDESC:Events for Cabo Fish Taco
REFRESH-INTERVAL;VALUE=DURATION:PT1H
X-Robots-Tag:noindex
X-PUBLISHED-TTL:PT1H
BEGIN:VTIMEZONE
TZID:America/New_York
BEGIN:DAYLIGHT
TZOFFSETFROM:-0500
TZOFFSETTO:-0400
TZNAME:EDT
DTSTART:20220313T070000
END:DAYLIGHT
BEGIN:STANDARD
TZOFFSETFROM:-0400
TZOFFSETTO:-0500
TZNAME:EST
DTSTART:20221106T060000
END:STANDARD
BEGIN:DAYLIGHT
TZOFFSETFROM:-0500
TZOFFSETTO:-0400
TZNAME:EDT
DTSTART:20230312T070000
END:DAYLIGHT
BEGIN:STANDARD
TZOFFSETFROM:-0400
TZOFFSETTO:-0500
TZNAME:EST
DTSTART:20231105T060000
END:STANDARD
BEGIN:DAYLIGHT
TZOFFSETFROM:-0500
TZOFFSETTO:-0400
TZNAME:EDT
DTSTART:20240310T070000
END:DAYLIGHT
BEGIN:STANDARD
TZOFFSETFROM:-0400
TZOFFSETTO:-0500
TZNAME:EST
DTSTART:20241103T060000
END:STANDARD
END:VTIMEZONE
BEGIN:VEVENT
DTSTART;TZID=America/New_York:20230328T170000
DTEND;TZID=America/New_York:20230328T190000
DTSTAMP:20260419T120221
CREATED:20230306T171022Z
LAST-MODIFIED:20230403T185607Z
UID:10000209-1680022800-1680030000@www.cabofishtaco.com
SUMMARY:Delta Chi - Philanthropy Event
DESCRIPTION:About\n\n\n\nWe offer the nicest driving range in the New River valley\, with plenty of room to let the balls fly…but that’s just the beginning. At Cox’s Driving Range we also offer: \n\n26 driving range stations and a large grass area for hitting range balls\nA beautifully landscaped 18 hole miniature golf course\nA practice putting green with sand trap\n10 batting cage machines with variable speed\, softball and baseball\nPerfect setting for corporate outings and team building events\nBirthday party packages\nFriendly service and a beautiful view\n\nCome on by to work on your game or relieve some stress \nWinter Hours: (Last Tee Time starts 30 minutes before closing time) \n\nMonday 12:00 PM – 6:00ish\nTuesday-Sunday 12:00 PM – 6:00ish\n\n***IMPORTANT NOTICE*** \nIf high temperatures for that day are above 40 degrees we will likely be open. Below 40 degrees we will be closed. Please call ahead to be certain.
URL:https://www.cabofishtaco.com/event/delt-chi-philanthropy-event/
LOCATION:Cox Golf Driving Range\, 3500 Prices Fork Rd\, Blacksburg\, 24060
CATEGORIES:food truck
ATTACH;FMTTYPE=image/png:https://www.cabofishtaco.com/wp-content/uploads/2023/03/Coxs-Driving-Range-Web-01.png
END:VEVENT
END:VCALENDAR