BEGIN:VCALENDAR
VERSION:2.0
PRODID:-//Cabo Fish Taco - ECPv6.15.13.1//NONSGML v1.0//EN
CALSCALE:GREGORIAN
METHOD:PUBLISH
X-ORIGINAL-URL:https://www.cabofishtaco.com
X-WR-CALDESC:Events for Cabo Fish Taco
REFRESH-INTERVAL;VALUE=DURATION:PT1H
X-Robots-Tag:noindex
X-PUBLISHED-TTL:PT1H
BEGIN:VTIMEZONE
TZID:America/New_York
BEGIN:DAYLIGHT
TZOFFSETFROM:-0500
TZOFFSETTO:-0400
TZNAME:EDT
DTSTART:20220313T070000
END:DAYLIGHT
BEGIN:STANDARD
TZOFFSETFROM:-0400
TZOFFSETTO:-0500
TZNAME:EST
DTSTART:20221106T060000
END:STANDARD
BEGIN:DAYLIGHT
TZOFFSETFROM:-0500
TZOFFSETTO:-0400
TZNAME:EDT
DTSTART:20230312T070000
END:DAYLIGHT
BEGIN:STANDARD
TZOFFSETFROM:-0400
TZOFFSETTO:-0500
TZNAME:EST
DTSTART:20231105T060000
END:STANDARD
BEGIN:DAYLIGHT
TZOFFSETFROM:-0500
TZOFFSETTO:-0400
TZNAME:EDT
DTSTART:20240310T070000
END:DAYLIGHT
BEGIN:STANDARD
TZOFFSETFROM:-0400
TZOFFSETTO:-0500
TZNAME:EST
DTSTART:20241103T060000
END:STANDARD
END:VTIMEZONE
BEGIN:VEVENT
DTSTART;TZID=America/New_York:20230329T163000
DTEND;TZID=America/New_York:20230329T190000
DTSTAMP:20260419T120545
CREATED:20230306T171543Z
LAST-MODIFIED:20230403T185606Z
UID:10000210-1680107400-1680116400@www.cabofishtaco.com
SUMMARY:The Orchards Apartment Homes
DESCRIPTION:
URL:https://www.cabofishtaco.com/event/the-orchards-apartment-homes/
LOCATION:Orchards Apartment Homes\, 5360 Orchards Hill Dr\, Roanoke\, VA\, 24019\, United States
CATEGORIES:food truck
ATTACH;FMTTYPE=image/jpeg:https://www.cabofishtaco.com/wp-content/uploads/2023/03/cc5db76894c49cf7b554d46283d93a8c.jpg
END:VEVENT
END:VCALENDAR