BEGIN:VCALENDAR
VERSION:2.0
PRODID:-//Cabo Fish Taco - ECPv6.15.13.1//NONSGML v1.0//EN
CALSCALE:GREGORIAN
METHOD:PUBLISH
X-ORIGINAL-URL:https://www.cabofishtaco.com
X-WR-CALDESC:Events for Cabo Fish Taco
REFRESH-INTERVAL;VALUE=DURATION:PT1H
X-Robots-Tag:noindex
X-PUBLISHED-TTL:PT1H
BEGIN:VTIMEZONE
TZID:America/New_York
BEGIN:DAYLIGHT
TZOFFSETFROM:-0500
TZOFFSETTO:-0400
TZNAME:EDT
DTSTART:20220313T070000
END:DAYLIGHT
BEGIN:STANDARD
TZOFFSETFROM:-0400
TZOFFSETTO:-0500
TZNAME:EST
DTSTART:20221106T060000
END:STANDARD
BEGIN:DAYLIGHT
TZOFFSETFROM:-0500
TZOFFSETTO:-0400
TZNAME:EDT
DTSTART:20230312T070000
END:DAYLIGHT
BEGIN:STANDARD
TZOFFSETFROM:-0400
TZOFFSETTO:-0500
TZNAME:EST
DTSTART:20231105T060000
END:STANDARD
BEGIN:DAYLIGHT
TZOFFSETFROM:-0500
TZOFFSETTO:-0400
TZNAME:EDT
DTSTART:20240310T070000
END:DAYLIGHT
BEGIN:STANDARD
TZOFFSETFROM:-0400
TZOFFSETTO:-0500
TZNAME:EST
DTSTART:20241103T060000
END:STANDARD
END:VTIMEZONE
BEGIN:VEVENT
DTSTART;TZID=America/New_York:20230414T100000
DTEND;TZID=America/New_York:20230414T123000
DTSTAMP:20260419T120450
CREATED:20230327T051914Z
LAST-MODIFIED:20230403T185606Z
UID:10000219-1681466400-1681475400@www.cabofishtaco.com
SUMMARY:Catawba Hospital
DESCRIPTION:About\nCatawba Hospital specializes in serving adults who need mental health care. The hospital offers both short-term “acute care” units and dedicated geriatric units. Both private and semi-private rooms are available. \nCatawba Hospital is affiliated with the Virginia Tech Carilion School of Medicine\, where staff psychiatrists may have faculty appointments and help train psychiatry residents and medical students. A clinical practicum is available for students of various disciplines including nursing\, psychology\, social work\, music therapy\, recreation therapy\, and food and nutritional services. \nSee the Website
URL:https://www.cabofishtaco.com/event/catawba-hospital-3/
LOCATION:Catawba Hospital\, 5525 Catawba Hospital Dr\, Catawba\, VA\, 24070\, United States
CATEGORIES:slideshow,food truck
ATTACH;FMTTYPE=image/webp:https://www.cabofishtaco.com/wp-content/uploads/2023/03/59296837-0-DJI-0009-aa208faf-432w.webp
END:VEVENT
BEGIN:VEVENT
DTSTART;TZID=America/New_York:20230414T160000
DTEND;TZID=America/New_York:20230414T200000
DTSTAMP:20260419T120450
CREATED:20230327T052007Z
LAST-MODIFIED:20230817T162858Z
UID:10000220-1681488000-1681502400@www.cabofishtaco.com
SUMMARY:Longway Brewing
DESCRIPTION:In the summer of 1755\, Mary Draper Ingles was captured by the Shawnee and taken through the wilderness up to Ohio. After several weeks in captivity\, she escaped and made the arduous 600 mile trek back along the New River to her family home. \nIt was shortly after her return that a group of friends gathered in a Radford backyard and first began discussing a neighborhood brewery. \nWell\, maybe it wasn’t the late 1700s\, but it sure seems like it.  \nOn Tap
URL:https://www.cabofishtaco.com/event/longway-brewing-3/
LOCATION:Longway Brewing\, 501 2nd St\, Radford\, VA\, 24141\, United States
CATEGORIES:slideshow,food truck
ATTACH;FMTTYPE=image/png:https://www.cabofishtaco.com/wp-content/uploads/2023/03/LongWayBrewingMainLogoOrange.png
END:VEVENT
END:VCALENDAR