BEGIN:VCALENDAR
VERSION:2.0
PRODID:-//Cabo Fish Taco - ECPv6.15.13.1//NONSGML v1.0//EN
CALSCALE:GREGORIAN
METHOD:PUBLISH
X-WR-CALNAME:Cabo Fish Taco
X-ORIGINAL-URL:https://www.cabofishtaco.com
X-WR-CALDESC:Events for Cabo Fish Taco
REFRESH-INTERVAL;VALUE=DURATION:PT1H
X-Robots-Tag:noindex
X-PUBLISHED-TTL:PT1H
BEGIN:VTIMEZONE
TZID:America/New_York
BEGIN:DAYLIGHT
TZOFFSETFROM:-0500
TZOFFSETTO:-0400
TZNAME:EDT
DTSTART:20220313T070000
END:DAYLIGHT
BEGIN:STANDARD
TZOFFSETFROM:-0400
TZOFFSETTO:-0500
TZNAME:EST
DTSTART:20221106T060000
END:STANDARD
BEGIN:DAYLIGHT
TZOFFSETFROM:-0500
TZOFFSETTO:-0400
TZNAME:EDT
DTSTART:20230312T070000
END:DAYLIGHT
BEGIN:STANDARD
TZOFFSETFROM:-0400
TZOFFSETTO:-0500
TZNAME:EST
DTSTART:20231105T060000
END:STANDARD
BEGIN:DAYLIGHT
TZOFFSETFROM:-0500
TZOFFSETTO:-0400
TZNAME:EDT
DTSTART:20240310T070000
END:DAYLIGHT
BEGIN:STANDARD
TZOFFSETFROM:-0400
TZOFFSETTO:-0500
TZNAME:EST
DTSTART:20241103T060000
END:STANDARD
END:VTIMEZONE
BEGIN:VEVENT
DTSTART;TZID=America/New_York:20230616T170000
DTEND;TZID=America/New_York:20230616T193000
DTSTAMP:20260419T120145
CREATED:20230327T061644Z
LAST-MODIFIED:20230403T185605Z
UID:10000392-1686934800-1686943800@www.cabofishtaco.com
SUMMARY:Pearisburg Community market
DESCRIPTION:
URL:https://www.cabofishtaco.com/event/pearisburg-community-market/
LOCATION:Pearisburg Community Market\, 1410 Wenonah Avenue\, Pearisburg\, VA\, 24134\, United States
CATEGORIES:food truck
END:VEVENT
END:VCALENDAR